BEGIN:VCALENDAR
VERSION:2.0
PRODID:-//pretix//FBSN_Ticketing//
BEGIN:VTIMEZONE
TZID:Europe/Berlin
BEGIN:STANDARD
DTSTART:20001029T040000
RRULE:FREQ=YEARLY;BYDAY=-1SU;BYMONTH=10
TZNAME:CET
TZOFFSETFROM:+0200
TZOFFSETTO:+0100
END:STANDARD
BEGIN:DAYLIGHT
DTSTART:20000326T030000
RRULE:FREQ=YEARLY;BYDAY=-1SU;BYMONTH=3
TZNAME:CEST
TZOFFSETFROM:+0100
TZOFFSETTO:+0200
END:DAYLIGHT
END:VTIMEZONE
BEGIN:VEVENT
UID:pretix-fbsn-ks26-327@tickets.fbsn.de
DTSTART;TZID=Europe/Berlin:20260714T090000
DTEND;TZID=Europe/Berlin:20260714T100000
DESCRIPTION:Tickets: https://tickets.fbsn.de/ks26/327/\nVeranstalter: Freil
 ichtbühne Schloß Neuhaus e.V.
DTSTAMP:20260426T025156Z
LOCATION:Freilichtbühne Schloß Neuhaus e.V.\, Im Schloßpark\, 33104 Pade
 rborn\, Deutschland
SUMMARY:Gruppenaufführung - Wenn der Mond am Himmel steht ...
END:VEVENT
END:VCALENDAR
